BEGIN:VCALENDAR
VERSION:2.0
PRODID:-//Hospiz-Initiative Salzgitter e. V. - ECPv6.15.20//NONSGML v1.0//EN
CALSCALE:GREGORIAN
METHOD:PUBLISH
X-WR-CALNAME:Hospiz-Initiative Salzgitter e. V.
X-ORIGINAL-URL:https://www.hospiz-initiative-salzgitter.de
X-WR-CALDESC:Veranstaltungen für Hospiz-Initiative Salzgitter e. V.
REFRESH-INTERVAL;VALUE=DURATION:PT1H
X-Robots-Tag:noindex
X-PUBLISHED-TTL:PT1H
BEGIN:VTIMEZONE
TZID:Europe/Berlin
BEGIN:DAYLIGHT
TZOFFSETFROM:+0100
TZOFFSETTO:+0200
TZNAME:CEST
DTSTART:20240331T010000
END:DAYLIGHT
BEGIN:STANDARD
TZOFFSETFROM:+0200
TZOFFSETTO:+0100
TZNAME:CET
DTSTART:20241027T010000
END:STANDARD
BEGIN:DAYLIGHT
TZOFFSETFROM:+0100
TZOFFSETTO:+0200
TZNAME:CEST
DTSTART:20250330T010000
END:DAYLIGHT
BEGIN:STANDARD
TZOFFSETFROM:+0200
TZOFFSETTO:+0100
TZNAME:CET
DTSTART:20251026T010000
END:STANDARD
BEGIN:DAYLIGHT
TZOFFSETFROM:+0100
TZOFFSETTO:+0200
TZNAME:CEST
DTSTART:20260329T010000
END:DAYLIGHT
BEGIN:STANDARD
TZOFFSETFROM:+0200
TZOFFSETTO:+0100
TZNAME:CET
DTSTART:20261025T010000
END:STANDARD
END:VTIMEZONE
BEGIN:VTIMEZONE
TZID:UTC
BEGIN:STANDARD
TZOFFSETFROM:+0000
TZOFFSETTO:+0000
TZNAME:UTC
DTSTART:20240101T000000
END:STANDARD
END:VTIMEZONE
BEGIN:VEVENT
DTSTART;TZID=Europe/Berlin:20251202T150000
DTEND;TZID=Europe/Berlin:20251202T170000
DTSTAMP:20260419T154339
CREATED:20241220T081944Z
LAST-MODIFIED:20241220T081944Z
UID:4805-1764687600-1764694800@www.hospiz-initiative-salzgitter.de
SUMMARY:Trauercafé Salzgitter-Thiede
DESCRIPTION:Die Hospiz-Initiative Salzgitter e. V. bietet Trauernden die Möglichkeit der Begegnung in offenen Trauercafés an. \nSie betrauern den Verlust eines nahen Menschen und suchen einen Ort\, an dem Sie Ihre Trauer zulassen dürfen…\nSie möchten Trost und Kraft finden und sich für den Alltag stärken. \nSie finden bei uns einen geschützten Raum\, um ihrer Trauer Ausdruck zu geben und mit anderen Menschen\, die Ihr Schicksal teilen\, zu reden\, zu weinen und zu lachen. \nWenn Sie möchten\, bieten wir Ihnen auch die Möglichkeit eines Einzelgesprächs.\nSpeziell geschulte Trauerbegleiter stehen Ihnen begleitend zur Seite. \nUnsere Angebote sind kostenfrei. Wir arbeiten ehrenamtlich\, überkonfessionell und unabhängig. \nAlle Mitarbeitende unterliegen selbstverständlich der Schweigepflicht. \nBitte nehmen Sie vor Ihrem ersten Besuch telefonisch Kontakt mit uns auf. \nTelefon: 05341 – 9026110 \n  \nTrauercafé Salzgitter-Thiede\nAlten- und Pflegeheim\n„Residenz am Lindenberg“\nGuldener Kamp 5\n38239 Salzgitter
URL:https://www.hospiz-initiative-salzgitter.de/termin/modulgruppe-kindertrauer-2-2-2-2-2-2-2-2-2-2-2-2-2-2-2-2-2-2-2-2-5-2-2-2-2-2-2-5-2-2-3-2-2-2-2-2-2-2-2-2-6-2-2-2-2-2-2-2-2-2-2/
LOCATION:Hospiz-Initiative Salzgitter e.V.\, Swindonstr.111\, Salzgitter-Lebenstedt\, 38226\, Deutschland
END:VEVENT
BEGIN:VEVENT
DTSTART;TZID=Europe/Berlin:20251203T170000
DTEND;TZID=Europe/Berlin:20251203T200000
DTSTAMP:20260419T154339
CREATED:20241220T095209Z
LAST-MODIFIED:20241220T095209Z
UID:4942-1764781200-1764792000@www.hospiz-initiative-salzgitter.de
SUMMARY:Vorbereitungskurs für ehrenamtliche Sterbebegleiter
DESCRIPTION:03. Dezember 2025 | 17:00 – 20:00\nVorbereitungskurs für ehrenamtliche Sterbebegleiter\nHospiz-Initiative Salzgitter e.V. Swindonstr.111\, Salzgitter-Lebenstedt\, Deutschland
URL:https://www.hospiz-initiative-salzgitter.de/termin/vorbereitungskurs-fuer-ehrenamtliche-sterbebegleiter-3-2-2-2-2-2-2-3-2-2-2-2-2-2-2-2-2/
END:VEVENT
BEGIN:VEVENT
DTSTART;TZID=Europe/Berlin:20251204T163000
DTEND;TZID=Europe/Berlin:20251204T163000
DTSTAMP:20260419T154339
CREATED:20241220T085759Z
LAST-MODIFIED:20241220T085759Z
UID:4895-1764865800-1764865800@www.hospiz-initiative-salzgitter.de
SUMMARY:Vorstandssitzung
DESCRIPTION:04. Dezember 2025 | ab 16:30 \nHospiz-Initiative Salzgitter e.V. Swindonstr.111\, Salzgitter-Lebenstedt\, Deutschland
URL:https://www.hospiz-initiative-salzgitter.de/termin/vorbereitungskurs-fuer-ehrenamtliche-sterbebegleiter-3-2-2-2-2-2-3-3-2-2-2-2-2-2-2-2-2-2-2-2-2/
END:VEVENT
BEGIN:VEVENT
DTSTART;TZID=UTC:20251210T090000
DTEND;TZID=UTC:20251210T110000
DTSTAMP:20260419T154339
CREATED:20241220T095953Z
LAST-MODIFIED:20241220T095953Z
UID:4956-1765357200-1765364400@www.hospiz-initiative-salzgitter.de
SUMMARY:Supervision "Ehrenamt" bei Frau J.
DESCRIPTION:Supervision dient ganz allgemein der Verbesserung ehrenamtlicher Arbeit. Sie schafft Reflexionsräume und ermöglicht ein vertieftes Verstehen ehrenamtlicher Realität\, indem sie eine Situation aus verschiedenen Blickwinkeln und Dimensionen analysiert und erörtert.
URL:https://www.hospiz-initiative-salzgitter.de/termin/supervision-ehrenamt-bei-frau-j-2-2-2-3-2-2-2-2-2/
LOCATION:Hospiz-Initiative Salzgitter e.V.\, Swindonstr.111\, Salzgitter-Lebenstedt\, 38226\, Deutschland
END:VEVENT
BEGIN:VEVENT
DTSTART;TZID=Europe/Berlin:20251212T150000
DTEND;TZID=Europe/Berlin:20251212T170000
DTSTAMP:20260419T154339
CREATED:20241220T083026Z
LAST-MODIFIED:20250710T054845Z
UID:4831-1765551600-1765558800@www.hospiz-initiative-salzgitter.de
SUMMARY:Trauercafé Salzgitter-Lebenstedt
DESCRIPTION:Die Hospiz-Initiative Salzgitter e. V. bietet Trauernden die Möglichkeit der Begegnung in offenen Trauercafés an. \nSie betrauern den Verlust eines nahen Menschen und suchen einen Ort\, an dem Sie Ihre Trauer zulassen dürfen…\nSie möchten Trost und Kraft finden und sich für den Alltag stärken. \nSie finden bei uns einen geschützten Raum\, um ihrer Trauer Ausdruck zu geben und mit anderen Menschen\, die Ihr Schicksal teilen\, zu reden\, zu weinen und zu lachen. \nWenn Sie möchten\, bieten wir Ihnen auch die Möglichkeit eines Einzelgesprächs.\nSpeziell geschulte Trauerbegleiter stehen Ihnen begleitend zur Seite. \nUnsere Angebote sind kostenfrei. Wir arbeiten ehrenamtlich\, überkonfessionell und unabhängig. \nAlle Mitarbeitende unterliegen selbstverständlich der Schweigepflicht. \nBitte nehmen Sie vor Ihrem ersten Besuch telefonisch Kontakt mit uns auf. \nTelefon: 05341 – 9026110 \n  \nTrauercafé Salzgitter-Lebenstedt\nHospiz-Initiative Salzgitter e. V.\nSwindonstraße 111\n38226 Salzgitter
URL:https://www.hospiz-initiative-salzgitter.de/termin/modulgruppe-kindertrauer-2-2-2-2-2-2-2-2-2-2-2-2-2-2-2-2-2-2-2-2-5-2-2-2-2-2-2-5-2-2-3-2-2-2-2-2-2-2-3-2-2-2-2-2-2-2-2-2-2-2/
LOCATION:Hospiz-Initiative Salzgitter e.V.\, Swindonstr.111\, Salzgitter-Lebenstedt\, 38226\, Deutschland
END:VEVENT
BEGIN:VEVENT
DTSTART;TZID=Europe/Berlin:20251215T160000
DTEND;TZID=Europe/Berlin:20251215T180000
DTSTAMP:20260419T154339
CREATED:20250129T090050Z
LAST-MODIFIED:20250129T090050Z
UID:5146-1765814400-1765821600@www.hospiz-initiative-salzgitter.de
SUMMARY:Regenbogengruppen Weihnachtsfeier
DESCRIPTION:
URL:https://www.hospiz-initiative-salzgitter.de/termin/modulgruppe-kindertrauer-2-2-2-2-2-2-2-2-2-2-2-2-2-2-2-2-2-2-2-2-5-2-2-2-2-2-2-8-2-2-2-2-2-2-2-2-2-2/
LOCATION:Hospiz-Initiative Salzgitter e.V.\, Swindonstr.111\, Salzgitter-Lebenstedt\, 38226\, Deutschland
END:VEVENT
BEGIN:VEVENT
DTSTART;TZID=UTC:20251216T150000
DTEND;TZID=UTC:20251216T180000
DTSTAMP:20260419T154339
CREATED:20241220T100159Z
LAST-MODIFIED:20241220T100159Z
UID:4958-1765897200-1765908000@www.hospiz-initiative-salzgitter.de
SUMMARY:Weihnachtskaffee für das Ehrenamt
DESCRIPTION:
URL:https://www.hospiz-initiative-salzgitter.de/termin/weihnachtskaffee-fuer-das-ehrenamt-3/
LOCATION:Hospiz-Initiative Salzgitter e.V.\, Swindonstr.111\, Salzgitter-Lebenstedt\, 38226\, Deutschland
END:VEVENT
BEGIN:VEVENT
DTSTART;TZID=Europe/Berlin:20251217T170000
DTEND;TZID=Europe/Berlin:20251217T200000
DTSTAMP:20260419T154339
CREATED:20241220T095247Z
LAST-MODIFIED:20241220T095247Z
UID:4944-1765990800-1766001600@www.hospiz-initiative-salzgitter.de
SUMMARY:Vorbereitungskurs für ehrenamtliche Sterbebegleiter
DESCRIPTION:17. Dezember 2025 | 17:00 – 20:00\nVorbereitungskurs für ehrenamtliche Sterbebegleiter\nHospiz-Initiative Salzgitter e.V. Swindonstr.111\, Salzgitter-Lebenstedt\, Deutschland
URL:https://www.hospiz-initiative-salzgitter.de/termin/vorbereitungskurs-fuer-ehrenamtliche-sterbebegleiter-3-2-2-2-2-2-2-3-2-2-2-2-2-2-2-2-2-2/
END:VEVENT
END:VCALENDAR