BEGIN:VCALENDAR
VERSION:2.0
PRODID:-//Hospiz-Initiative Salzgitter e. V. - ECPv6.15.20//NONSGML v1.0//EN
CALSCALE:GREGORIAN
METHOD:PUBLISH
X-WR-CALNAME:Hospiz-Initiative Salzgitter e. V.
X-ORIGINAL-URL:https://www.hospiz-initiative-salzgitter.de
X-WR-CALDESC:Veranstaltungen für Hospiz-Initiative Salzgitter e. V.
REFRESH-INTERVAL;VALUE=DURATION:PT1H
X-Robots-Tag:noindex
X-PUBLISHED-TTL:PT1H
BEGIN:VTIMEZONE
TZID:Europe/Berlin
BEGIN:DAYLIGHT
TZOFFSETFROM:+0100
TZOFFSETTO:+0200
TZNAME:CEST
DTSTART:20240331T010000
END:DAYLIGHT
BEGIN:STANDARD
TZOFFSETFROM:+0200
TZOFFSETTO:+0100
TZNAME:CET
DTSTART:20241027T010000
END:STANDARD
BEGIN:DAYLIGHT
TZOFFSETFROM:+0100
TZOFFSETTO:+0200
TZNAME:CEST
DTSTART:20250330T010000
END:DAYLIGHT
BEGIN:STANDARD
TZOFFSETFROM:+0200
TZOFFSETTO:+0100
TZNAME:CET
DTSTART:20251026T010000
END:STANDARD
BEGIN:DAYLIGHT
TZOFFSETFROM:+0100
TZOFFSETTO:+0200
TZNAME:CEST
DTSTART:20260329T010000
END:DAYLIGHT
BEGIN:STANDARD
TZOFFSETFROM:+0200
TZOFFSETTO:+0100
TZNAME:CET
DTSTART:20261025T010000
END:STANDARD
END:VTIMEZONE
BEGIN:VEVENT
DTSTART;TZID=Europe/Berlin:20251104T150000
DTEND;TZID=Europe/Berlin:20251104T170000
DTSTAMP:20260419T154308
CREATED:20241220T081914Z
LAST-MODIFIED:20241220T081914Z
UID:4803-1762268400-1762275600@www.hospiz-initiative-salzgitter.de
SUMMARY:Trauercafé Salzgitter-Thiede
DESCRIPTION:Die Hospiz-Initiative Salzgitter e. V. bietet Trauernden die Möglichkeit der Begegnung in offenen Trauercafés an. \nSie betrauern den Verlust eines nahen Menschen und suchen einen Ort\, an dem Sie Ihre Trauer zulassen dürfen…\nSie möchten Trost und Kraft finden und sich für den Alltag stärken. \nSie finden bei uns einen geschützten Raum\, um ihrer Trauer Ausdruck zu geben und mit anderen Menschen\, die Ihr Schicksal teilen\, zu reden\, zu weinen und zu lachen. \nWenn Sie möchten\, bieten wir Ihnen auch die Möglichkeit eines Einzelgesprächs.\nSpeziell geschulte Trauerbegleiter stehen Ihnen begleitend zur Seite. \nUnsere Angebote sind kostenfrei. Wir arbeiten ehrenamtlich\, überkonfessionell und unabhängig. \nAlle Mitarbeitende unterliegen selbstverständlich der Schweigepflicht. \nBitte nehmen Sie vor Ihrem ersten Besuch telefonisch Kontakt mit uns auf. \nTelefon: 05341 – 9026110 \n  \nTrauercafé Salzgitter-Thiede\nAlten- und Pflegeheim\n„Residenz am Lindenberg“\nGuldener Kamp 5\n38239 Salzgitter
URL:https://www.hospiz-initiative-salzgitter.de/termin/modulgruppe-kindertrauer-2-2-2-2-2-2-2-2-2-2-2-2-2-2-2-2-2-2-2-2-5-2-2-2-2-2-2-5-2-2-3-2-2-2-2-2-2-2-2-2-6-2-2-2-2-2-2-2-2-2/
LOCATION:Hospiz-Initiative Salzgitter e.V.\, Swindonstr.111\, Salzgitter-Lebenstedt\, 38226\, Deutschland
END:VEVENT
BEGIN:VEVENT
DTSTART;TZID=Europe/Berlin:20251106T163000
DTEND;TZID=Europe/Berlin:20251106T163000
DTSTAMP:20260419T154308
CREATED:20241220T085721Z
LAST-MODIFIED:20241220T085721Z
UID:4893-1762446600-1762446600@www.hospiz-initiative-salzgitter.de
SUMMARY:Vorstandssitzung
DESCRIPTION:06. November 2025 | ab 16:30 \nHospiz-Initiative Salzgitter e.V. Swindonstr.111\, Salzgitter-Lebenstedt\, Deutschland
URL:https://www.hospiz-initiative-salzgitter.de/termin/vorbereitungskurs-fuer-ehrenamtliche-sterbebegleiter-3-2-2-2-2-2-3-3-2-2-2-2-2-2-2-2-2-2-2-2/
END:VEVENT
BEGIN:VEVENT
DTSTART;TZID=Europe/Berlin:20251107T150000
DTEND;TZID=Europe/Berlin:20251107T170000
DTSTAMP:20260419T154308
CREATED:20241220T082954Z
LAST-MODIFIED:20241220T082954Z
UID:4829-1762527600-1762534800@www.hospiz-initiative-salzgitter.de
SUMMARY:Trauercafé Salzgitter-Lebenstedt
DESCRIPTION:Die Hospiz-Initiative Salzgitter e. V. bietet Trauernden die Möglichkeit der Begegnung in offenen Trauercafés an. \nSie betrauern den Verlust eines nahen Menschen und suchen einen Ort\, an dem Sie Ihre Trauer zulassen dürfen…\nSie möchten Trost und Kraft finden und sich für den Alltag stärken. \nSie finden bei uns einen geschützten Raum\, um ihrer Trauer Ausdruck zu geben und mit anderen Menschen\, die Ihr Schicksal teilen\, zu reden\, zu weinen und zu lachen. \nWenn Sie möchten\, bieten wir Ihnen auch die Möglichkeit eines Einzelgesprächs.\nSpeziell geschulte Trauerbegleiter stehen Ihnen begleitend zur Seite. \nUnsere Angebote sind kostenfrei. Wir arbeiten ehrenamtlich\, überkonfessionell und unabhängig. \nAlle Mitarbeitende unterliegen selbstverständlich der Schweigepflicht. \nBitte nehmen Sie vor Ihrem ersten Besuch telefonisch Kontakt mit uns auf. \nTelefon: 05341 – 9026110 \n  \nTrauercafé Salzgitter-Lebenstedt\nHospiz-Initiative Salzgitter e. V.\nSwindonstraße 111\n38226 Salzgitter
URL:https://www.hospiz-initiative-salzgitter.de/termin/modulgruppe-kindertrauer-2-2-2-2-2-2-2-2-2-2-2-2-2-2-2-2-2-2-2-2-5-2-2-2-2-2-2-5-2-2-3-2-2-2-2-2-2-2-3-2-2-2-2-2-2-2-2-2-2/
LOCATION:Hospiz-Initiative Salzgitter e.V.\, Swindonstr.111\, Salzgitter-Lebenstedt\, 38226\, Deutschland
END:VEVENT
BEGIN:VEVENT
DTSTART;TZID=Europe/Berlin:20251110T160000
DTEND;TZID=Europe/Berlin:20251110T180000
DTSTAMP:20260419T154308
CREATED:20250129T085950Z
LAST-MODIFIED:20250129T085950Z
UID:5144-1762790400-1762797600@www.hospiz-initiative-salzgitter.de
SUMMARY:Regenbogengruppe Sonnenstrahl
DESCRIPTION:
URL:https://www.hospiz-initiative-salzgitter.de/termin/modulgruppe-kindertrauer-2-2-2-2-2-2-2-2-2-2-2-2-2-2-2-2-2-2-2-2-5-2-2-2-2-2-2-8-2-2-2-2-2-2-2-2-2/
LOCATION:Hospiz-Initiative Salzgitter e.V.\, Swindonstr.111\, Salzgitter-Lebenstedt\, 38226\, Deutschland
END:VEVENT
BEGIN:VEVENT
DTSTART;TZID=Europe/Berlin:20251113T173000
DTEND;TZID=Europe/Berlin:20251113T193000
DTSTAMP:20260419T154308
CREATED:20241220T100641Z
LAST-MODIFIED:20241220T100641Z
UID:4970-1763055000-1763062200@www.hospiz-initiative-salzgitter.de
SUMMARY:Supervision "Ehrenamt" Herr K.
DESCRIPTION:
URL:https://www.hospiz-initiative-salzgitter.de/termin/supervision-ehrenamt-herr-k-2-2-2-2-2-2-2-2/
END:VEVENT
BEGIN:VEVENT
DTSTART;TZID=Europe/Berlin:20251117T160000
DTEND;TZID=Europe/Berlin:20251117T180000
DTSTAMP:20260419T154308
CREATED:20250129T090629Z
LAST-MODIFIED:20250129T090629Z
UID:5154-1763395200-1763402400@www.hospiz-initiative-salzgitter.de
SUMMARY:Regenbogengruppe Blume
DESCRIPTION:
URL:https://www.hospiz-initiative-salzgitter.de/termin/modulgruppe-kindertrauer-2-2-2-2-2-2-2-2-2-2-2-2-2-2-2-2-2-2-2-2-2-2-2-2-2-3-2-2-2-2-2-2-2-2-2/
LOCATION:Hospiz-Initiative Salzgitter e.V.\, Swindonstr.111\, Salzgitter-Lebenstedt\, 38226\, Deutschland
END:VEVENT
BEGIN:VEVENT
DTSTART;TZID=Europe/Berlin:20251120T143000
DTEND;TZID=Europe/Berlin:20251120T160000
DTSTAMP:20260419T154308
CREATED:20241220T104209Z
LAST-MODIFIED:20241220T104209Z
UID:5021-1763649000-1763654400@www.hospiz-initiative-salzgitter.de
SUMMARY:Treffen der ehrenamtlichen Trauerbegleiter
DESCRIPTION:
URL:https://www.hospiz-initiative-salzgitter.de/termin/vorbereitungskurs-fuer-ehrenamtliche-sterbebegleiter-3-2-2-2-2-2-2-3-2-2-2-2-2-2-2-2-2-2-2-3-2-2-2-2-2-2-2-2-2/
END:VEVENT
BEGIN:VEVENT
DTSTART;TZID=Europe/Berlin:20251120T173000
DTEND;TZID=Europe/Berlin:20251120T193000
DTSTAMP:20260419T154308
CREATED:20250129T092331Z
LAST-MODIFIED:20250129T092331Z
UID:5164-1763659800-1763667000@www.hospiz-initiative-salzgitter.de
SUMMARY:Jugendtrauergruppe Herzschmerz
DESCRIPTION:
URL:https://www.hospiz-initiative-salzgitter.de/termin/jugendtrauergruppe-herzschmerz-2-2-2-2-2-2-2-2-2-2-2-2-2-2-2-2-3-2-2-2-2-2-2-2-2/
LOCATION:Hospiz-Initiative Salzgitter e.V.\, Swindonstr.111\, Salzgitter-Lebenstedt\, 38226\, Deutschland
END:VEVENT
BEGIN:VEVENT
DTSTART;VALUE=DATE:20251123
DTEND;VALUE=DATE:20251124
DTSTAMP:20260419T154308
CREATED:20241220T112706Z
LAST-MODIFIED:20241220T112706Z
UID:5054-1763856000-1763942399@www.hospiz-initiative-salzgitter.de
SUMMARY:Totensonntag
DESCRIPTION:
URL:https://www.hospiz-initiative-salzgitter.de/termin/vorbereitungskurs-fuer-ehrenamtliche-sterbebegleiter-3-2-2-2-2-2-3-3-2-2-2-2-2-2-2-2-2-2-2-2-2-2-2-2-2/
END:VEVENT
BEGIN:VEVENT
DTSTART;TZID=Europe/Berlin:20251124T183000
DTEND;TZID=Europe/Berlin:20251124T183000
DTSTAMP:20260419T154308
CREATED:20251022T083021Z
LAST-MODIFIED:20251022T083953Z
UID:5724-1764009000-1764009000@www.hospiz-initiative-salzgitter.de
SUMMARY:Einladung zur Mitgliederversammlung 2025
DESCRIPTION:Einladung zur Mitgliederversammlung 2025\nSehr geehrtes Mitglied der Hospiz-Initiative Salzgitter e.V.\,\nwir freuen uns\, Sie zur Mitgliederversammlung am\nMontag\, den 24. November 2025 um 18:30 Uhr\nin die Geschäftsstelle der Hospiz-Initiative Salzgitter e.V.\nSwindonstraße 111\, 38226 Salzgitter\neinladen zu können.\nFür die Planung ist eine Anmeldung bis zum 15.11.2025 in der Geschäftsstelle bei Frau Königsbauer unter der Telefonnummer 05341 – 9026110 hilfreich.\nFragen an den Vorstand über unsere Arbeit und den Verein sind bitte ebenfalls bis zum 15.11.2024 schriftlich oder per E-Mail an den Vorstand zu richten. Die E-Mails senden Sie bitte ausschließlich an den Vorstand\, vorstand@hospiz-initiative-salzgitter.de.\n\nFolgende Tagesordnung ist vorgesehen:\nTOP 1 Begrüßung\nTOP 2 Feststellung der ordnungsgemäßen Einladung und der Beschlussfähigkeit\nTOP 3 Genehmigung der Tagesordnung\nTOP 4 Fragen an den Vorstand\nTOP 5 Jahresbericht des Vorstandes und Aussprache\nTOP 6 Jahresbericht des Hospizhauses und Aussprache\nTOP 7 Kassenbericht\nTOP 8 Kassenprüfungsbericht\nTOP 9 Entlastung des Schatzmeisters\nTOP 10 Entlastung des Vorstandes\nTOP 11 Vorstellung und Beschluss des Haushaltsvoranschlages 2026\nTOP 12 Anfragen und Mitteilungen\nWir freuen uns auf Ihre Teilnahme und verbleiben\nmit freundlichen Grüßen\n\nHeribert Pietschmann\nVorsitzender der\nHospiz-Initiative Salzgitter e.V.\n\n 
URL:https://www.hospiz-initiative-salzgitter.de/termin/vorbereitungskurs-fuer-ehrenamtliche-sterbebegleiter-3-2-2-2-2-2-3-3-2-2-2-2-2-2-2-2-2-2-2-2-2-3/
LOCATION:Hospiz-Initiative Salzgitter e.V.\, Swindonstr.111\, Salzgitter-Lebenstedt\, 38226\, Deutschland
ATTACH;FMTTYPE=image/jpeg:https://www.hospiz-initiative-salzgitter.de/medien/2025/10/Unbenannt-1-1-scaled.jpg
END:VEVENT
BEGIN:VEVENT
DTSTART;TZID=Europe/Berlin:20251125T170000
DTEND;TZID=Europe/Berlin:20251125T200000
DTSTAMP:20260419T154308
CREATED:20241220T095008Z
LAST-MODIFIED:20241220T095047Z
UID:4939-1764090000-1764100800@www.hospiz-initiative-salzgitter.de
SUMMARY:Vorbereitungskurs für ehrenamtliche Sterbebegleiter
DESCRIPTION:25. November 2025 | 17:00 – 20:00\nVorbereitungskurs für ehrenamtliche Sterbebegleiter\nHospiz-Initiative Salzgitter e.V. Swindonstr.111\, Salzgitter-Lebenstedt\, Deutschland
URL:https://www.hospiz-initiative-salzgitter.de/termin/vorbereitungskurs-fuer-ehrenamtliche-sterbebegleiter-3-2-2-2-2-2-2-3-2-2-2-2-2-2-2-2/
END:VEVENT
BEGIN:VEVENT
DTSTART;VALUE=DATE:20251128
DTEND;VALUE=DATE:20251201
DTSTAMP:20260419T154308
CREATED:20241220T113347Z
LAST-MODIFIED:20241220T113347Z
UID:5056-1764288000-1764547199@www.hospiz-initiative-salzgitter.de
SUMMARY:Fortbildungswochenende im Kloster Drübeck mit Renate Lohmann
DESCRIPTION:28.-30. November 2025 \nKloster Drübeck\, Klostergarten 6 · 38871 Drübeck \, Deutschland
URL:https://www.hospiz-initiative-salzgitter.de/termin/vorbereitungskurs-fuer-ehrenamtliche-sterbebegleiter-3-2-2-2-2-2-2-2-2-2-2-2-2-2/
END:VEVENT
END:VCALENDAR