BEGIN:VCALENDAR
VERSION:2.0
PRODID:-//Hospiz-Initiative Salzgitter e. V. - ECPv6.15.20//NONSGML v1.0//EN
CALSCALE:GREGORIAN
METHOD:PUBLISH
X-WR-CALNAME:Hospiz-Initiative Salzgitter e. V.
X-ORIGINAL-URL:https://www.hospiz-initiative-salzgitter.de
X-WR-CALDESC:Veranstaltungen für Hospiz-Initiative Salzgitter e. V.
REFRESH-INTERVAL;VALUE=DURATION:PT1H
X-Robots-Tag:noindex
X-PUBLISHED-TTL:PT1H
BEGIN:VTIMEZONE
TZID:UTC
BEGIN:STANDARD
TZOFFSETFROM:+0000
TZOFFSETTO:+0000
TZNAME:UTC
DTSTART:20250101T000000
END:STANDARD
END:VTIMEZONE
BEGIN:VEVENT
DTSTART;VALUE=DATE:20260625
DTEND;VALUE=DATE:20260626
DTSTAMP:20260423T135929
CREATED:20251223T092336Z
LAST-MODIFIED:20251223T092336Z
UID:6159-1782345600-1782431999@www.hospiz-initiative-salzgitter.de
SUMMARY:Tag der Senioren
DESCRIPTION:
URL:https://www.hospiz-initiative-salzgitter.de/termin/ehrenamtstreffen-dienstagsrunde-4-2-2-2-2-2-2-3-2-2-2-2-2-2-4-2-2-2-2-2-2-2-2-2-2-2-2-2-2-2/
LOCATION:Rathaus Salzgitter Lebenstedt
END:VEVENT
BEGIN:VEVENT
DTSTART;TZID=UTC:20260625T180000
DTEND;TZID=UTC:20260625T193000
DTSTAMP:20260423T135929
CREATED:20251223T092458Z
LAST-MODIFIED:20251223T092505Z
UID:6162-1782410400-1782415800@www.hospiz-initiative-salzgitter.de
SUMMARY:Altenheim Ehrenamt Treffen
DESCRIPTION:
URL:https://www.hospiz-initiative-salzgitter.de/termin/ehrenamtstreffen-dienstagsrunde-4-2-2-2-2-2-2-3-2-2-2-2-2-2-4-2-2-2-2-2-2-2-2-2-2-2-2-2-2-2-2/
LOCATION:Hospiz-Initiative Salzgitter e.V.\, Swindonstr.111\, Salzgitter-Lebenstedt\, 38226\, Deutschland
END:VEVENT
END:VCALENDAR