BEGIN:VCALENDAR
VERSION:2.0
PRODID:-//Hospiz-Initiative Salzgitter e. V. - ECPv6.15.20//NONSGML v1.0//EN
CALSCALE:GREGORIAN
METHOD:PUBLISH
X-ORIGINAL-URL:https://www.hospiz-initiative-salzgitter.de
X-WR-CALDESC:Veranstaltungen für Hospiz-Initiative Salzgitter e. V.
REFRESH-INTERVAL;VALUE=DURATION:PT1H
X-Robots-Tag:noindex
X-PUBLISHED-TTL:PT1H
BEGIN:VTIMEZONE
TZID:UTC
BEGIN:STANDARD
TZOFFSETFROM:+0000
TZOFFSETTO:+0000
TZNAME:UTC
DTSTART:20250101T000000
END:STANDARD
END:VTIMEZONE
BEGIN:VEVENT
DTSTART;TZID=UTC:20260519T160000
DTEND;TZID=UTC:20260519T180000
DTSTAMP:20260419T183311
CREATED:20251223T092026Z
LAST-MODIFIED:20251223T092026Z
UID:6155-1779206400-1779213600@www.hospiz-initiative-salzgitter.de
SUMMARY:Dienstagsrunde mit dem "KIT" Kriseninterventionsteam Goslar (S. Hanelt)
DESCRIPTION:Das Kriseninterventionsteam  (KIT) betreut Menschen unmittelbar nach emotional stark belastenden Erlebnissen und leistet psychosoziale Akuthilfe\, beispielsweise für Angehörige nach einem plötzlichen Todesfall.
URL:https://www.hospiz-initiative-salzgitter.de/termin/ehrenamtstreffen-dienstagsrunde-4-2-2-2-2-2-2-3-2-2-2-2-2-2-4-2-2-2-2-2-2-2-2-2-2-2-2-2/
LOCATION:Hospiz-Initiative Salzgitter e.V.\, Swindonstr.111\, Salzgitter-Lebenstedt\, 38226\, Deutschland
END:VEVENT
END:VCALENDAR