BEGIN:VCALENDAR
VERSION:2.0
PRODID:-//Hospiz-Initiative Salzgitter e. V. - ECPv6.15.20//NONSGML v1.0//EN
CALSCALE:GREGORIAN
METHOD:PUBLISH
X-ORIGINAL-URL:https://www.hospiz-initiative-salzgitter.de
X-WR-CALDESC:Veranstaltungen für Hospiz-Initiative Salzgitter e. V.
REFRESH-INTERVAL;VALUE=DURATION:PT1H
X-Robots-Tag:noindex
X-PUBLISHED-TTL:PT1H
BEGIN:VTIMEZONE
TZID:UTC
BEGIN:STANDARD
TZOFFSETFROM:+0000
TZOFFSETTO:+0000
TZNAME:UTC
DTSTART:20240101T000000
END:STANDARD
END:VTIMEZONE
BEGIN:VEVENT
DTSTART;TZID=UTC:20251216T150000
DTEND;TZID=UTC:20251216T180000
DTSTAMP:20260420T003318
CREATED:20241220T100159Z
LAST-MODIFIED:20241220T100159Z
UID:4958-1765897200-1765908000@www.hospiz-initiative-salzgitter.de
SUMMARY:Weihnachtskaffee für das Ehrenamt
DESCRIPTION:
URL:https://www.hospiz-initiative-salzgitter.de/termin/weihnachtskaffee-fuer-das-ehrenamt-3/
LOCATION:Hospiz-Initiative Salzgitter e.V.\, Swindonstr.111\, Salzgitter-Lebenstedt\, 38226\, Deutschland
END:VEVENT
END:VCALENDAR