BEGIN:VCALENDAR
VERSION:2.0
PRODID:-//Hospiz-Initiative Salzgitter e. V. - ECPv6.15.20//NONSGML v1.0//EN
CALSCALE:GREGORIAN
METHOD:PUBLISH
X-ORIGINAL-URL:https://www.hospiz-initiative-salzgitter.de
X-WR-CALDESC:Veranstaltungen für Hospiz-Initiative Salzgitter e. V.
REFRESH-INTERVAL;VALUE=DURATION:PT1H
X-Robots-Tag:noindex
X-PUBLISHED-TTL:PT1H
BEGIN:VTIMEZONE
TZID:Europe/Berlin
BEGIN:DAYLIGHT
TZOFFSETFROM:+0100
TZOFFSETTO:+0200
TZNAME:CEST
DTSTART:20240331T010000
END:DAYLIGHT
BEGIN:STANDARD
TZOFFSETFROM:+0200
TZOFFSETTO:+0100
TZNAME:CET
DTSTART:20241027T010000
END:STANDARD
BEGIN:DAYLIGHT
TZOFFSETFROM:+0100
TZOFFSETTO:+0200
TZNAME:CEST
DTSTART:20250330T010000
END:DAYLIGHT
BEGIN:STANDARD
TZOFFSETFROM:+0200
TZOFFSETTO:+0100
TZNAME:CET
DTSTART:20251026T010000
END:STANDARD
BEGIN:DAYLIGHT
TZOFFSETFROM:+0100
TZOFFSETTO:+0200
TZNAME:CEST
DTSTART:20260329T010000
END:DAYLIGHT
BEGIN:STANDARD
TZOFFSETFROM:+0200
TZOFFSETTO:+0100
TZNAME:CET
DTSTART:20261025T010000
END:STANDARD
END:VTIMEZONE
BEGIN:VEVENT
DTSTART;TZID=Europe/Berlin:20251120T143000
DTEND;TZID=Europe/Berlin:20251120T160000
DTSTAMP:20260419T183638
CREATED:20241220T104209Z
LAST-MODIFIED:20241220T104209Z
UID:5021-1763649000-1763654400@www.hospiz-initiative-salzgitter.de
SUMMARY:Treffen der ehrenamtlichen Trauerbegleiter
DESCRIPTION:
URL:https://www.hospiz-initiative-salzgitter.de/termin/vorbereitungskurs-fuer-ehrenamtliche-sterbebegleiter-3-2-2-2-2-2-2-3-2-2-2-2-2-2-2-2-2-2-2-3-2-2-2-2-2-2-2-2-2/
END:VEVENT
BEGIN:VEVENT
DTSTART;TZID=Europe/Berlin:20251120T173000
DTEND;TZID=Europe/Berlin:20251120T193000
DTSTAMP:20260419T183638
CREATED:20250129T092331Z
LAST-MODIFIED:20250129T092331Z
UID:5164-1763659800-1763667000@www.hospiz-initiative-salzgitter.de
SUMMARY:Jugendtrauergruppe Herzschmerz
DESCRIPTION:
URL:https://www.hospiz-initiative-salzgitter.de/termin/jugendtrauergruppe-herzschmerz-2-2-2-2-2-2-2-2-2-2-2-2-2-2-2-2-3-2-2-2-2-2-2-2-2/
LOCATION:Hospiz-Initiative Salzgitter e.V.\, Swindonstr.111\, Salzgitter-Lebenstedt\, 38226\, Deutschland
END:VEVENT
END:VCALENDAR