BEGIN:VCALENDAR
VERSION:2.0
PRODID:-//Hospiz-Initiative Salzgitter e. V. - ECPv6.15.20//NONSGML v1.0//EN
CALSCALE:GREGORIAN
METHOD:PUBLISH
X-ORIGINAL-URL:https://www.hospiz-initiative-salzgitter.de
X-WR-CALDESC:Veranstaltungen für Hospiz-Initiative Salzgitter e. V.
REFRESH-INTERVAL;VALUE=DURATION:PT1H
X-Robots-Tag:noindex
X-PUBLISHED-TTL:PT1H
BEGIN:VTIMEZONE
TZID:UTC
BEGIN:STANDARD
TZOFFSETFROM:+0000
TZOFFSETTO:+0000
TZNAME:UTC
DTSTART:20240101T000000
END:STANDARD
END:VTIMEZONE
BEGIN:VEVENT
DTSTART;TZID=UTC:20250928T110000
DTEND;TZID=UTC:20250928T130000
DTSTAMP:20260419T160045
CREATED:20250710T060833Z
LAST-MODIFIED:20250710T061110Z
UID:5507-1759057200-1759064400@www.hospiz-initiative-salzgitter.de
SUMMARY:Sternwanderung
DESCRIPTION:Liebe Mitglieder\,\nwir möchten Sie am 28.09.2025 zu einer Sternwanderung einladen. \nDie Wanderungen starten mit Begleitung erfahrener Wanderführer zu unterschiedlichen Zeiten und von verschiedenen Orten.  Am Ziel angekommen\, können Sie Kaffee\, Kuchen und\nGegrilltes erwerben und den Tag gemeinsam ausklingen lassen. Die Wanderungen werden vom Harzklub-Salzgitter geführt und der Abschluss wird vom „SV Glück Auf 1901 Gebhardshagen e.V.“ organisiert. \nSZ-Calbecht/SZ-Engerode bis SZ-Gebhardshagen\nTourlänge: hin 3\,5 km\, zurück 3\,5 km\, Gehzeit: 2 x 60 Min. (mit Pause)\nTreffpunkt: zwischen SZ-Calbecht und SZ-Engerode (Parkplatz Karl-Scharfenberg-Straße)\nUhrzeit: 11.45 Uhr \nSZ-Salder bis SZ-Gebhardshagen\nTourlänge: hin 7 km\, zurück können\, öffentliche Verkehrsmittel genutzt werden\, Gehzeit: 1 x 150 Min. (mit Pause)\nTreffpunkt: Schlossplatz SZ-Salder (Hofseite)\nUhrzeit: 10.30 Uhr \nSZ-Bad bis SZ-Gebhardshagen\nTourlänge: hin 5\,5 km\, zurück 5\,5 km\, Gehzeit: 2 x 90 Min. (mit Pause)\nTreffpunkt: SZ-Bad\, (Parkplatz am Waldfriedhof)\nUhrzeit: 11.00 Uhr \nSZ-Lebenstedt bis SZ-Gebhardshagen\nTourlänge: hin 10 km\, zurück können\, öffentliche Verkehrsmittel genutzt werden\nGehzeit: 1 x 150 Min. (mit Pause)\, Treffpunkt: Stadtbad SZ-Lebenstedt\nUhrzeit: 10.00 Uhr \n  \nAlle Wanderungen: Ankunft ca. 13:00 Uhr\, Sportplatz des „SV Glück Auf 1901 Gebhardshagen e.V.“\nGustedter Straße 125\, 38229 Salzgitter
URL:https://www.hospiz-initiative-salzgitter.de/termin/weihnachtskaffee-fuer-das-ehrenamt-3-2/
END:VEVENT
END:VCALENDAR